BEGIN:VCALENDAR
VERSION:2.0
PRODID:-//eventon.com NONSGML v1.0//EN
CALSCALE:GREGORIAN
METHOD:PUBLISH
BEGIN:VEVENT
UID:69e6ef15163c5
DTSTAMP:20260421T032925Z
DTSTART:20221125T180000Z
DTEND:20221128T000000Z
LOCATION:Tafts Hall 1206 SE 48th Pl
SUMMARY:Taft Holiday Fair
DESCRIPTION:&nbsp; Two weekends of crafts\,  food and fun.  Local artisans
  will be selling their goods\,   Vintage toys on display to look at.  120
 6 SE 48th pl Lincoln City\,  OR  541-992-9494 for more information\nhttps:
 //lincolncityhomepage.com/events/taft-holiday-fair/
URL:https://lincolncityhomepage.com/events/taft-holiday-fair/
END:VEVENT
END:VCALENDAR