BEGIN:VCALENDAR
VERSION:2.0
PRODID:-//eventon.com NONSGML v1.0//EN
CALSCALE:GREGORIAN
METHOD:PUBLISH
BEGIN:VEVENT
UID:69eb6f035d097
DTSTAMP:20260424T132419Z
DTSTART:20231119T060000Z
DTEND:20231119T010000Z
LOCATION:
SUMMARY:North Lincoln County Historical Museum Craft Fair
DESCRIPTION:NLCHM is hosting their annual Craft Bazaar. Come support the mu
 seum local artists\,  while finding fantastic and unique handmade gifts for
  the holiday season &nbsp; 4907 HW 101\nhttps://lincolncityhomepage.com/eve
 nts/north-lincoln-county-historical-museum-craft-fair/
URL:https://lincolncityhomepage.com/events/north-lincoln-county-historical-museum-craft-fair/
END:VEVENT
END:VCALENDAR