BEGIN:VCALENDAR
VERSION:2.0
PRODID:-//eventon.com NONSGML v1.0//EN
CALSCALE:GREGORIAN
METHOD:PUBLISH
BEGIN:VEVENT
UID:69e63d97458d6
DTSTAMP:20260420T145207Z
DTSTART:20250704T110000Z
DTEND:20250704T190000Z
LOCATION:
SUMMARY:Gleneden Parade
DESCRIPTION:Event Title: The Gleneden Beach 4th of July Parade Event Start 
 Date: July\,  4th\,  2025 Event Start Time: 11AM Event End Time: 6PM+ Event
  Location: Gleneden Beach Loop\,  Gleneden Beach\,  OR Event Link: https://
 www.glenedenparade.org Phone Number: 9712308230 Event Info: Get ready for a
 n unforgettable 4th of July celebration at Gleneden[..]\nhttps://lincolncit
 yhomepage.com/events/gleneden-parade/
URL:https://lincolncityhomepage.com/events/gleneden-parade/
END:VEVENT
END:VCALENDAR